BEGIN:VCALENDAR
VERSION:2.0
PRODID:-//Dancing Angels - ECPv6.15.18//NONSGML v1.0//EN
CALSCALE:GREGORIAN
METHOD:PUBLISH
X-WR-CALNAME:Dancing Angels
X-ORIGINAL-URL:https://dancingangels.us
X-WR-CALDESC:Events for Dancing Angels
REFRESH-INTERVAL;VALUE=DURATION:PT1H
X-Robots-Tag:noindex
X-PUBLISHED-TTL:PT1H
BEGIN:VTIMEZONE
TZID:America/New_York
BEGIN:DAYLIGHT
TZOFFSETFROM:-0500
TZOFFSETTO:-0400
TZNAME:EDT
DTSTART:20250309T070000
END:DAYLIGHT
BEGIN:STANDARD
TZOFFSETFROM:-0400
TZOFFSETTO:-0500
TZNAME:EST
DTSTART:20251102T060000
END:STANDARD
BEGIN:DAYLIGHT
TZOFFSETFROM:-0500
TZOFFSETTO:-0400
TZNAME:EDT
DTSTART:20260308T070000
END:DAYLIGHT
BEGIN:STANDARD
TZOFFSETFROM:-0400
TZOFFSETTO:-0500
TZNAME:EST
DTSTART:20261101T060000
END:STANDARD
BEGIN:DAYLIGHT
TZOFFSETFROM:-0500
TZOFFSETTO:-0400
TZNAME:EDT
DTSTART:20270314T070000
END:DAYLIGHT
BEGIN:STANDARD
TZOFFSETFROM:-0400
TZOFFSETTO:-0500
TZNAME:EST
DTSTART:20271107T060000
END:STANDARD
END:VTIMEZONE
BEGIN:VEVENT
DTSTART;TZID=America/New_York:20260516T150000
DTEND;TZID=America/New_York:20260516T160000
DTSTAMP:20260421T163402
CREATED:20260101T165952Z
LAST-MODIFIED:20260101T165952Z
UID:78361-1778943600-1778947200@dancingangels.us
SUMMARY:Sound Healing
DESCRIPTION:Enjoy Sound Healing with Prana with Christian Verde (Certified Pranic Healer & Arhatic Yoga Practitioner)\nHe will bring his rainbow crystal bowls\, bell from Bhutan\, chimes\, and Djembe drum for an experience in a sound journey that will heal you!\nVisit PHBoston.com to register for this event.
URL:https://dancingangels.us/event/sound-healing/
LOCATION:Dancing Angels\, 47 Pleasant Street\, Oxford\, 04270\, United States
END:VEVENT
BEGIN:VEVENT
DTSTART;TZID=America/New_York:20260512T190000
DTEND;TZID=America/New_York:20260512T203000
DTSTAMP:20260421T163402
CREATED:20251220T183203Z
LAST-MODIFIED:20251220T183203Z
UID:78354-1778612400-1778617800@dancingangels.us
SUMMARY:Hail Mary Healing
DESCRIPTION:Step into a sacred space of reflection\, healing\, and inner purification as we explore the Hail Mary—one of the most beloved and enduring prayers in the world. Far beyond its traditional roots\, this prayer carries profound energetic\, esoteric\, and transformative qualities that speak directly to the heart and soul. \nIn this gathering\, we will journey through both the history and the vibrational meaning of the Hail Mary\, discovering how its words activate grace\, compassion\, and spiritual alignment. \nCost: $35.00 Please enter the name of the event in the description when you are on the registration page. Click http://paypal.me/finajacoby to register. Please note: No refunds after registration. \nZoom link will be provided after registration. If you do not receive the link\, please email dancingangels@gmail.com
URL:https://dancingangels.us/event/hail-mary-healing/
LOCATION:Zoom
END:VEVENT
BEGIN:VEVENT
DTSTART;TZID=America/New_York:20260414T190000
DTEND;TZID=America/New_York:20260414T203000
DTSTAMP:20260421T163402
CREATED:20251220T182815Z
LAST-MODIFIED:20251220T182815Z
UID:78352-1776193200-1776198600@dancingangels.us
SUMMARY:Buddha Quan Yin
DESCRIPTION:Join us for a gentle\, heart‑opening evening dedicated to cleansing\, renewal\, and compassionate awakening through the radiant presence of Buddha Quan Yin. \nIn this session\, we will explore:\n• The life and spiritual wisdom of Quan Yin\n• Sacred symbols and mudras connected to her energy\n• The meaning behind these symbols and how they support inner purification\n• Quan Yin’s powerful mantra—its vibration\, purpose\, and daily use \nThis gathering offers practical tools for emotional and energetic purification while deepening your connection to mercy\, compassion\, and inner peace. All are welcome. \nCost: $35.00 Please enter the name of the event in the description when you are on the registration page. Click http://paypal.me/finajacoby to register. Please note: No refunds after registration. \nZoom link will be provided after registration. If you do not receive the link\, please email dancingangels@gmail.com
URL:https://dancingangels.us/event/buddha-quan-yin/
LOCATION:Zoom
END:VEVENT
END:VCALENDAR